BEGIN:VCALENDAR
VERSION:2.0
PRODID:Friends of The Dowse
CALSCALE:GREGORIAN
BEGIN:VEVENT
DTSTAMP:20181221T032031Z
UID:9d5fba47-dbb6-471d-88c2-75ca48563f97
DTSTART:20170401T230000Z
DTEND:20170402T000000Z
DESCRIPTION:Free\n\nJoin curator Sian van Dyk and Solo 2016 artists Jordana
  Bragg\, Crystal Chain Gang (Leanne Williams and Jim Dennison)\, Karl Frits
 ch\, Neil Pardington and Erica van Zon in a reflective tour of this exhibit
 ion on its final day.\n
LOCATION:The Dowse Art Museum
SUMMARY:Talk and Tour: Solo 2016
URL:http://friendsofthedowse.nz/public/events/12206-talk-and-tour-solo-2016
END:VEVENT
END:VCALENDAR
