BEGIN:VCALENDAR
VERSION:2.0
PRODID:Friends of The Dowse
CALSCALE:GREGORIAN
BEGIN:VEVENT
DTSTAMP:20181221T033033Z
UID:9362d5d0-f32d-422c-90ec-22ee5adfb6f6
DTSTART:20170312T020000Z
DTEND:20170312T030000Z
DESCRIPTION:Free\n\nCome hear Raewyn talk about her project\, I Too Am in P
 aradise\, in conversation with curator Melanie Oliver\, and see the plants 
 go to their new homes. \n
LOCATION:The Dowse Art Museum
SUMMARY:Raewyn Atkinson: Plant Gifting
URL:http://friendsofthedowse.nz/public/events/12208-raewyn-atkinson-plant-g
 ifting
END:VEVENT
END:VCALENDAR
