BEGIN:VCALENDAR
VERSION:2.0
PRODID:Friends of The Dowse
CALSCALE:GREGORIAN
BEGIN:VEVENT
DTSTAMP:20181221T034537Z
UID:b8e82228-04f8-443c-bcde-e63ca2da0914
DTSTART:20151122T000000Z
DTEND:20151122T030000Z
DESCRIPTION:
LOCATION:
SUMMARY:Architecture Tour
URL:http://friendsofthedowse.nz/public/events/3238-architecture-tour
END:VEVENT
END:VCALENDAR
