BEGIN:VCALENDAR
VERSION:2.0
PRODID:Friends of The Dowse
CALSCALE:GREGORIAN
BEGIN:VEVENT
DTSTAMP:20181221T034035Z
UID:64deb734-100f-4aef-bc70-69435c8c1b99
DTSTART:20160608T060000Z
DTEND:20160608T080000Z
DESCRIPTION:Hi Nicky\,\n\nJust doing a bit of a test to see what the format
  is like. Can you click on the register button and see if you can buy a tic
 ket to the AGM (cost is $0.00). Ta.\n\nFriends of The Dowse: Annual General
  Meeting\nWednesday 8 June 2015\n6pm – 8pm\nVenue: The Dowse Art Museum\nGu
 est Speaker: Courtney Johnston\, Director of The Dowse\n\nNOMINATIONS\nComm
 ittee nominations and any general business must be made in writing at least
  seven days before the AGM to:\nFriends of The Dowse\nPO Box 30 396\nLower 
 Hutt\nor email friendsdowse@gmail.com\n\nNomination forms can be collected 
 from the front desk of the gallery. If you are interested or would like to 
 put someone’s name forward please contact:\nHeather Crichton on 021 937 750
  or email friendsdowse@gmail.com\n\nKind regards\n\nHeather Crichton\n\nPre
 sident\n\nFriends of The Dowse\n\n \n\n \n\n \n
LOCATION:The Dowse Art Museum
SUMMARY:Friends of The Dowse AGM (Free Event)
URL:http://friendsofthedowse.nz/public/events/5114-friends-of-the-dowse-agm
 -free-event
END:VEVENT
END:VCALENDAR
