BEGIN:VCALENDAR
VERSION:2.0
PRODID:Friends of The Dowse
CALSCALE:GREGORIAN
BEGIN:VEVENT
DTSTAMP:20181221T033534Z
UID:e45e0ee2-8b41-4c60-a12a-df324dc1d035
DTSTART:20161125T050000Z
DTEND:20161125T063000Z
DESCRIPTION: \n\n\nAT THE BEACH - Join us at The Dowse for the opening of "
 At The Beach" exhibition\, next Friday 25th November\, 6pm.\n\nTo open the 
 new exhibition At the Beach: 100 Years of Summer Fashion in New Zealand\, h
 ear an introduction to the show from Doris de Pont\, former fashion designe
 r and now curator and founder of the New Zealand Fashion Museum.\n\nYou are
  also invited to bring along your own item of vintage beachwear for Doris t
 o discuss. It could be an opp-shop treasure or an inherited... fashion item
  reminiscent of childhood holidays.\n\n\nComplimentary light refreshments a
 nd a glass of bubbles from Joiy will be available on the night.\n\nFriends 
 Members $5\nNon-Members $10\nPayable on the night - Cash or Eftpos\n\nPleas
 e note that anyone joining the Friends Members on the night receive free en
 try and are eligible for the opening night 20% discount special from The Do
 wse store - MINE (great for Christmas gifts)\n\n\n
LOCATION:The Dowse Art Museum
SUMMARY:At The Beach Opening - with Doris de Pont
URL:http://friendsofthedowse.nz/public/events/7227-at-the-beach-opening-wit
 h-doris-de-pont
END:VEVENT
END:VCALENDAR
